BEGIN:VCALENDAR
VERSION:2.0
PRODID:-//TEC tes site - ECPv6.15.20//NONSGML v1.0//EN
CALSCALE:GREGORIAN
METHOD:PUBLISH
X-WR-CALNAME:TEC tes site
X-ORIGINAL-URL:https://tec.wpfc.io
X-WR-CALDESC:Events for TEC tes site
REFRESH-INTERVAL;VALUE=DURATION:PT1H
X-Robots-Tag:noindex
X-PUBLISHED-TTL:PT1H
BEGIN:VTIMEZONE
TZID:UTC
BEGIN:STANDARD
TZOFFSETFROM:+0000
TZOFFSETTO:+0000
TZNAME:UTC
DTSTART:20250101T000000
END:STANDARD
END:VTIMEZONE
BEGIN:VEVENT
DTSTART;TZID=UTC:20260425T000000
DTEND;TZID=UTC:20260426T000000
DTSTAMP:20260421T111610
CREATED:20251202T134527Z
LAST-MODIFIED:20260407T100020Z
UID:33-1777075200-1777161600@tec.wpfc.io
SUMMARY:Paid Event yoooo
DESCRIPTION:Join us for a vibrant design meetup at the local park this weekend! Connect with fellow creatives\, share ideas\, and explore innovative design concepts in a relaxed outdoor setting. Whether you’re a seasoned designer or just starting out\, this event is perfect for networking and inspiration. Bring your sketchbooks\, and let’s create together!
URL:https://tec.wpfc.io/event/paid-event-yoooo/
LOCATION:Cubbon Park\, Near Bangalore Central\, Bengaluru\, India
ATTACH;FMTTYPE=image/jpeg:https://tec.wpfc.io/wp-content/uploads/2025/12/1.jpg
END:VEVENT
END:VCALENDAR